Workbook

Sheet 請登入資料
A1: 序號 | B1: 活動內容 | C1: 主題與內容一致性 | D1: 時間及地點 | E1: 流程安排 | F1: 對本身有所助益 | G1: 整體滿意度 | H1: 良好工作態度 | I1: 表達溝通 | J1: 團隊合作 | K1: 基礎電腦應用 | L1: 思考批判及解決問題 | M1: 語言 | N1: 創新創作 | O1: 終身學習 | P1: 人際溝通 | Q1: 國際視野
A2: 1 | B2: 5 | C2: 5 | D2: 1 | E2: 5 | F2: 5 | G2: 5 | H2: 5 | I2: 2 | J2: 5 | K2: 5 | L2: 4 | M2: 5 | N2: 5 | O2: 5 | P2: 3 | Q2: 5 | S2: 範例
A3: 2 | B3: 2 | C3: 2 | D3: 2 | E3: 2 | F3: 2 | G3: 2 | H3: 2 | I3: 2 | J3: 2 | K3: 3 | L3: 2 | M3: 2 | N3: 2 | O3: 2 | P3: 2 | Q3: 2 | S3: 範例
A4: 3 | B4: 4 | C4: 4 | D4: 4 | E4: 1 | F4: 4 | G4: 4 | H4: 4 | I4: 4 | J4: 4 | K4: 4 | L4: 4 | M4: 4 | N4: 1 | O4: 4 | P4: 4 | Q4: 4 | S4: 範例
A5: 4 | B5: 3 | C5: 3 | D5: 3 | E5: 3 | F5: 1 | G5: 4 | H5: 3 | I5: 3 | J5: 3 | K5: 3 | L5: 3 | M5: 3 | N5: 3 | O5: 3 | P5: 3 | Q5: 3 | S5: 範例
A6: 5 | B6: 1 | C6: 4 | D6: 4 | E6: 4 | F6: 3 | G6: 3 | H6: 3 | I6: 5 | J6: 2 | K6: 2 | L6: 5 | M6: 5 | N6: 5 | O6: 5 | P6: 5 | Q6: 5 | S6: 範例
A7: 6
A8: 7
A9: 8
A10: 9
A11: 10
A12: 11
A13: 12
A14: 13
A15: 14
A16: 15
A17: 16
A18: 17
... A32: 31

Sheet 滿意度統計(自動核算，勿動)
A1: 調查題目 | B1: 非常滿意 | C1: 滿意 | D1: 尚可 | E1: 不滿意 | F1: 非常不滿意 | G1: 填卷人數 | H1: 平均值 | I1: 百分比
A2: 編碼 | B2: 5 | C2: 4 | D2: 3 | E2: 2 | F2: 1
A3: 活動滿意度
A4: 1.我對本次活動內容的滿意度 | B4: =COUNTIF(請登入資料!$B:$B,B$2) -> 1 | C4: =COUNTIF(請登入資料!$B:$B,C$2) -> 1 | D4: =COUNTIF(請登入資料!$B:$B,D$2) -> 1 | E4: =COUNTIF(請登入資料!$B:$B,E$2) -> 1 | F4: =COUNTIF(請登入資料!$B:$B,F$2) -> 1 | G4: =SUM(B4:F4) -> 5 | H4: =AVERAGE(請登入資料!B:B) -> 3 | I4: =(B4+C4)/G4 -> 0.4 | J4: =(B4*B$2+C4*C$2+D4*D$2+E4*E$2+F4*F$2)/G4 -> 3
A5: 2.我對本次活動主題與內容一致性的滿意度 | B5: =COUNTIF(請登入資料!$C:$C,B$2) -> 1 | C5: =COUNTIF(請登入資料!$C:$C,C$2) -> 2 | D5: =COUNTIF(請登入資料!$C:$C,D$2) -> 1 | E5: =COUNTIF(請登入資料!$C:$C,E$2) -> 1 | F5: =COUNTIF(請登入資料!$C:$C,F$2) -> 0 | G5: =SUM(B5:F5) -> 5 | H5: =AVERAGE(請登入資料!C:C) -> 3.6 | I5: =(B5+C5)/G5 -> 0.6 | J5: =(B5*B$2+C5*C$2+D5*D$2+E5*E$2+F5*F$2)/G5 -> 3.6
A6: 3.我對本次活動時間及地點安排的滿意度 | B6: =COUNTIF(請登入資料!$D:$D,B$2) -> 0 | C6: =COUNTIF(請登入資料!$D:$D,C$2) -> 2 | D6: =COUNTIF(請登入資料!$D:$D,D$2) -> 1 | E6: =COUNTIF(請登入資料!$D:$D,E$2) -> 1 | F6: =COUNTIF(請登入資料!$D:$D,F$2) -> 1 | G6: =SUM(B6:F6) -> 5 | H6: =AVERAGE(請登入資料!D:D) -> 2.8 | I6: =(B6+C6)/G6 -> 0.4 | J6: =(B6*B$2+C6*C$2+D6*D$2+E6*E$2+F6*F$2)/G6 -> 2.8
A7: 4.我對本次活動流程安排的滿意度 | B7: =COUNTIF(請登入資料!$E:$E,B$2) -> 1 | C7: =COUNTIF(請登入資料!$E:$E,C$2) -> 1 | D7: =COUNTIF(請登入資料!$E:$E,D$2) -> 1 | E7: =COUNTIF(請登入資料!$E:$E,E$2) -> 1 | F7: =COUNTIF(請登入資料!$E:$E,F$2) -> 1 | G7: =SUM(B7:F7) -> 5 | H7: =AVERAGE(請登入資料!E:E) -> 3 | I7: =(B7+C7)/G7 -> 0.4 | J7: =(B7*B$2+C7*C$2+D7*D$2+E7*E$2+F7*F$2)/G7 -> 3
A8: 5.本次活動對我本身有所助益的滿意度 | B8: =COUNTIF(請登入資料!$F:$F,B$2) -> 1 | C8: =COUNTIF(請登入資料!$F:$F,C$2) -> 1 | D8: =COUNTIF(請登入資料!$F:$F,D$2) -> 1 | E8: =COUNTIF(請登入資料!$F:$F,E$2) -> 1 | F8: =COUNTIF(請登入資料!$F:$F,F$2) -> 1 | G8: =SUM(B8:F8) -> 5 | H8: =AVERAGE(請登入資料!F:F) -> 3 | I8: =(B8+C8)/G8 -> 0.4 | J8: =(B8*B$2+C8*C$2+D8*D$2+E8*E$2+F8*F$2)/G8 -> 3
A9: 6.整體而言，我對於本次活動滿意度 | B9: =COUNTIF(請登入資料!$G:$G,B$2) -> 1 | C9: =COUNTIF(請登入資料!$G:$G,C$2) -> 2 | D9: =COUNTIF(請登入資料!$G:$G,D$2) -> 1 | E9: =COUNTIF(請登入資料!$G:$G,E$2) -> 1 | F9: =COUNTIF(請登入資料!$G:$G,F$2) -> 0 | G9: =SUM(B9:F9) -> 5 | H9: =AVERAGE(請登入資料!G:G) -> 3.6 | I9: =(B9+C9)/G9 -> 0.6 | J9: =(B9*B$2+C9*C$2+D9*D$2+E9*E$2+F9*F$2)/G9 -> 3.6
A11: 學習能力自我評量
A12: 1.我對本次活動增進「良好工作態度」 | B12: =COUNTIF(請登入資料!$H:$H,B$2) -> 1 | C12: =COUNTIF(請登入資料!$H:$H,C$2) -> 1 | D12: =COUNTIF(請登入資料!$H:$H,D$2) -> 2 | E12: =COUNTIF(請登入資料!$H:$H,E$2) -> 1 | F12: =COUNTIF(請登入資料!$H:$H,F$2) -> 0 | G12: =SUM(B12:F12) -> 5 | H12: =AVERAGE(請登入資料!H:H) -> 3.4 | I12: =(B12+C12)/G12 -> 0.4 | J12: =(B12*B$2+C12*C$2+D12*D$2+E12*E$2+F12*F$2)/G12 -> 3.4
A13: 2.我對本次活動增進「表達與溝通能力」 | B13: =COUNTIF(請登入資料!$I:$I,B$2) -> 1 | C13: =COUNTIF(請登入資料!$I:$I,C$2) -> 1 | D13: =COUNTIF(請登入資料!$I:$I,D$2) -> 1 | E13: =COUNTIF(請登入資料!$I:$I,E$2) -> 2 | F13: =COUNTIF(請登入資料!$I:$I,F$2) -> 0 | G13: =SUM(B13:F13) -> 5 | H13: =AVERAGE(請登入資料!I:I) -> 3.2 | I13: =(B13+C13)/G13 -> 0.4 | J13: =(B13*B$2+C13*C$2+D13*D$2+E13*E$2+F13*F$2)/G13 -> 3.2
A14: 3.我對本次活動增進「團隊合作能力」 | B14: =COUNTIF(請登入資料!$J:$J,B$2) -> 1 | C14: =COUNTIF(請登入資料!$J:$J,C$2) -> 1 | D14: =COUNTIF(請登入資料!$J:$J,D$2) -> 1 | E14: =COUNTIF(請登入資料!$J:$J,E$2) -> 2 | F14: =COUNTIF(請登入資料!$J:$J,F$2) -> 0 | G14: =SUM(B14:F14) -> 5 | H14: =AVERAGE(請登入資料!J:J) -> 3.2 | I14: =(B14+C14)/G14 -> 0.4 | J14: =(B14*B$2+C14*C$2+D14*D$2+E14*E$2+F14*F$2)/G14 -> 3.2
A15: 4.我對本次活動增進「基礎電腦應用技能」 | B15: =COUNTIF(請登入資料!$K:$K,B$2) -> 1 | C15: =COUNTIF(請登入資料!$K:$K,C$2) -> 1 | D15: =COUNTIF(請登入資料!$K:$K,D$2) -> 2 | E15: =COUNTIF(請登入資料!$K:$K,E$2) -> 1 | F15: =COUNTIF(請登入資料!$K:$K,F$2) -> 0 | G15: =SUM(B15:F15) -> 5 | H15: =AVERAGE(請登入資料!K:K) -> 3.4 | I15: =(B15+C15)/G15 -> 0.4 | J15: =(B15*B$2+C15*C$2+D15*D$2+E15*E$2+F15*F$2)/G15 -> 3.4
A16: 5.我對本次活動增進「思考批判及解決問題能力」 | B16: =COUNTIF(請登入資料!$L:$L,B$2) -> 1 | C16: =COUNTIF(請登入資料!$L:$L,C$2) -> 2 | D16: =COUNTIF(請登入資料!$L:$L,D$2) -> 1 | E16: =COUNTIF(請登入資料!$L:$L,E$2) -> 1 | F16: =COUNTIF(請登入資料!$L:$L,F$2) -> 0 | G16: =SUM(B16:F16) -> 5 | H16: =AVERAGE(請登入資料!L:L) -> 3.6 | I16: =(B16+C16)/G16 -> 0.6 | J16: =(B16*B$2+C16*C$2+D16*D$2+E16*E$2+F16*F$2)/G16 -> 3.6
A17: 6.我對本次活動增進「語言能力」 | B17: =COUNTIF(請登入資料!$M:$M,B$2) -> 2 | C17: =COUNTIF(請登入資料!$M:$M,C$2) -> 1 | D17: =COUNTIF(請登入資料!$M:$M,D$2) -> 1 | E17: =COUNTIF(請登入資料!$M:$M,E$2) -> 1 | F17: =COUNTIF(請登入資料!$M:$M,F$2) -> 0 | G17: =SUM(B17:F17) -> 5 | H17: =AVERAGE(請登入資料!M:M) -> 3.8 | I17: =(B17+C17)/G17 -> 0.6 | J17: =(B17*B$2+C17*C$2+D17*D$2+E17*E$2+F17*F$2)/G17 -> 3.8
A18: 7.我對本次活動增進「創新創作能力」 | B18: =COUNTIF(請登入資料!$N:$N,B$2) -> 2 | C18: =COUNTIF(請登入資料!$N:$N,C$2) -> 0 | D18: =COUNTIF(請登入資料!$N:$N,D$2) -> 1 | E18: =COUNTIF(請登入資料!$N:$N,E$2) -> 1 | F18: =COUNTIF(請登入資料!$N:$N,F$2) -> 1 | G18: =SUM(B18:F18) -> 5 | H18: =AVERAGE(請登入資料!N:N) -> 3.2 | I18: =(B18+C18)/G18 -> 0.4 | J18: =(B18*B$2+C18*C$2+D18*D$2+E18*E$2+F18*F$2)/G18 -> 3.2
A19: 8.我對本次活動增進「終身學習能力」 | B19: =COUNTIF(請登入資料!$O:$O,B$2) -> 2 | C19: =COUNTIF(請登入資料!$O:$O,C$2) -> 1 | D19: =COUNTIF(請登入資料!$O:$O,D$2) -> 1 | E19: =COUNTIF(請登入資料!$O:$O,E$2) -> 1 | F19: =COUNTIF(請登入資料!$O:$O,F$2) -> 0 | G19: =SUM(B19:F19) -> 5 | H19: =AVERAGE(請登入資料!O:O) -> 3.8 | I19: =(B19+C19)/G19 -> 0.6 | J19: =(B19*B$2+C19*C$2+D19*D$2+E19*E$2+F19*F$2)/G19 -> 3.8
A20: 9.我對本次活動增進「人際溝通能力」 | B20: =COUNTIF(請登入資料!$P:$P,B$2) -> 1 | C20: =COUNTIF(請登入資料!$P:$P,C$2) -> 1 | D20: =COUNTIF(請登入資料!$P:$P,D$2) -> 2 | E20: =COUNTIF(請登入資料!$P:$P,E$2) -> 1 | F20: =COUNTIF(請登入資料!$P:$P,F$2) -> 0 | G20: =SUM(B20:F20) -> 5 | H20: =AVERAGE(請登入資料!P:P) -> 3.4 | I20: =(B20+C20)/G20 -> 0.4 | J20: =(B20*B$2+C20*C$2+D20*D$2+E20*E$2+F20*F$2)/G20 -> 3.4
A21: 10.我對本次活動增進「國際視野能力」 | B21: =COUNTIF(請登入資料!$Q:$Q,B$2) -> 2 | C21: =COUNTIF(請登入資料!$Q:$Q,C$2) -> 1 | D21: =COUNTIF(請登入資料!$Q:$Q,D$2) -> 1 | E21: =COUNTIF(請登入資料!$Q:$Q,E$2) -> 1 | F21: =COUNTIF(請登入資料!$Q:$Q,F$2) -> 0 | G21: =SUM(B21:F21) -> 5 | H21: =AVERAGE(請登入資料!Q:Q) -> 3.8 | I21: =(B21+C21)/G21 -> 0.6 | J21: =(B21*B$2+C21*C$2+D21*D$2+E21*E$2+F21*F$2)/G21 -> 3.8

Sheet 工作表1
